Workbook

Sheet JAN作成
A1: 1 | B1: 2 | C1: 3 | D1: 4 | E1: 5 | F1: 6 | G1: 7 | H1: 8 | I1: 9 | J1: 10 | K1: 11 | L1: 12 | M1: 13
A2: =JANコード入力!A2 -> 4 | B2: =JANコード入力!B2 -> 5 | C2: =JANコード入力!C2 -> 1 | D2: =JANコード入力!D2 -> 2 | E2: =JANコード入力!E2 -> 3 | F2: =JANコード入力!F2 -> 4 | G2: =JANコード入力!G2 -> 5 | H2: =JANコード入力!H2 -> 6 | ... L2: =JANコード入力!L2 -> 0 | M2: =MOD(10-MOD((B2+D2+F2+H2+J2+L2)*3+A2+C2+E2+G2+I2+K2,10),10) -> 6 | N2: =VLOOKUP(A2,O10:P19,2,0) -> 121122
B3: =MID($N$2,A1,1) -> 1 | C3: =MID($N$2,B1,1) -> 2 | D3: =MID($N$2,C1,1) -> 1 | E3: =MID($N$2,D1,1) -> 1 | F3: =MID($N$2,E1,1) -> 2 | G3: =MID($N$2,F1,1) -> 2 | N3: =CONCATENATE(A2," ",B2," ",C2," ",D2," ",E2," ",F2," ",G2," ",H2," ",I2," ",J2," ",K2," ",L2," ",M2) -> 4 5 1 2 3 4 5 6 7 8 9 0 6
B4: =TEXT(VLOOKUP(B2,$O$10:$R$19,B3+2,0),"0000000") -> 0110001 | C4: =TEXT(VLOOKUP(C2,$O$10:$R$19,C3+2,0),"0000000") -> 0110011 | D4: =TEXT(VLOOKUP(D2,$O$10:$R$19,D3+2,0),"0000000") -> 0010011 | E4: =TEXT(VLOOKUP(E2,$O$10:$R$19,E3+2,0),"0000000") -> 0111101 | F4: =TEXT(VLOOKUP(F2,$O$10:$R$19,F3+2,0),"0000000") -> 0011101 | G4: =TEXT(VLOOKUP(G2,$O$10:$R$19,G3+2,0),"0000000") -> 0111001 | H4: =TEXT(VLOOKUP(H2,$O$10:$S$19,5,0),"0000000") -> 1010000 | I4: =TEXT(VLOOKUP(I2,$O$10:$S$19,5,0),"0000000") -> 1000100 | J4: =TEXT(VLOOKUP(J2,$O$10:$S$19,5,0),"0000000") -> 1001000 | K4: =TEXT(VLOOKUP(K2,$O$10:$S$19,5,0),"0000000") -> 1110100 | L4: =TEXT(VLOOKUP(L2,$O$10:$S$19,5,0),"0000000") -> 1110010 | M4: =TEXT(VLOOKUP(M2,$O$10:$S$19,5,0),"0000000") -> 1010000
N5: 2行目からをうまく利用し複数のバーコードを作成するときのための空行
B8: 4行目をばらす | C8: グラフが参照している数値
B9: 1 | C9: =B9*1 -> 1 | Q9: 左1 | R9: 左2 | S9: 右
B10: 0 | C10: =B10*1 -> 0 | O10: 0 | P10: 111111 | Q10: 1101 | R10: 100111 | S10: 1110010
B11: 1 | C11: =B11*1 -> 1 | O11: 1 | P11: 112122 | Q11: 11001 | R11: 110011 | S11: 1100110
A12: 1 | B12: =MID($B$4,A12,1) -> 0 | C12: =B12*1 -> 0 | O12: 2 | P12: 112212 | Q12: 10011 | R12: 11011 | S12: 1101100
A13: 2 | B13: =MID($B$4,A13,1) -> 1 | C13: =B13*1 -> 1 | O13: 3 | P13: 112221 | Q13: 111101 | R13: 100001 | S13: 1000010
A14: 3 | B14: =MID($B$4,A14,1) -> 1 | C14: =B14*1 -> 1 | O14: 4 | P14: 121122 | Q14: 100011 | R14: 11101 | S14: 1011100
A15: 4 | B15: =MID($B$4,A15,1) -> 0 | C15: =B15*1 -> 0 | O15: 5 | P15: 122112 | Q15: 110001 | R15: 111001 | S15: 1001110
A16: 5 | B16: =MID($B$4,A16,1) -> 0 | C16: =B16*1 -> 0 | O16: 6 | P16: 122211 | Q16: 101111 | R16: 101 | S16: 1010000
A17: 6 | B17: =MID($B$4,A17,1) -> 0 | C17: =B17*1 -> 0 | O17: 7 | P17: 121212 | Q17: 111011 | R17: 10001 | S17: 1000100
A18: 7 | B18: =MID($B$4,A18,1) -> 1 | C18: =B18*1 -> 1 | O18: 8 | P18: 121221 | Q18: 110111 | R18: 1001 | S18: 1001000
A19: 1 | B19: =MID($C$4,A19,1) -> 0 | C19: =B19*1 -> 0 | O19: 9 | P19: 122121 | Q19: 1011 | R19: 10111 | S19: 1110100
A20: 2 | B20: =MID($C$4,A20,1) -> 1 | C20: =B20*1 -> 1
A21: 3 | B21: =MID($C$4,A21,1) -> 1 | C21: =B21*1 -> 1
A22: 4 | B22: =MID($C$4,A22,1) -> 0 | C22: =B22*1 -> 0
A23: 5 | B23: =MID($C$4,A23,1) -> 0 | C23: =B23*1 -> 0
A24: 6 | B24: =MID($C$4,A24,1) -> 1 | C24: =B24*1 -> 1
A25: 7 | B25: =MID($C$4,A25,1) -> 1 | C25: =B25*1 -> 1
A26: 1 | B26: =MID($D$4,A26,1) -> 0 | C26: =B26*1 -> 0
A27: 2 | B27: =MID($D$4,A27,1) -> 0 | C27: =B27*1 -> 0
A28: 3 | B28: =MID($D$4,A28,1) -> 1 | C28: =B28*1 -> 1
A29: 4 | B29: =MID($D$4,A29,1) -> 0 | C29: =B29*1 -> 0
A30: 5 | B30: =MID($D$4,A30,1) -> 0 | C30: =B30*1 -> 0
A31: 6 | B31: =MID($D$4,A31,1) -> 1 | C31: =B31*1 -> 1
A32: 7 | B32: =MID($D$4,A32,1) -> 1 | C32: =B32*1 -> 1
A33: 1 | B33: =MID($E$4,A33,1) -> 0 | C33: =B33*1 -> 0
A34: 2 | B34: =MID($E$4,A34,1) -> 1 | C34: =B34*1 -> 1
A35: 3 | B35: =MID($E$4,A35,1) -> 1 | C35: =B35*1 -> 1
A36: 4 | B36: =MID($E$4,A36,1) -> 1 | C36: =B36*1 -> 1
A37: 5 | B37: =MID($E$4,A37,1) -> 1 | C37: =B37*1 -> 1
A38: 6 | B38: =MID($E$4,A38,1) -> 0 | C38: =B38*1 -> 0
A39: 7 | B39: =MID($E$4,A39,1) -> 1 | C39: =B39*1 -> 1
A40: 1 | B40: =MID($F$4,A40,1) -> 0 | C40: =B40*1 -> 0
A41: 2 | B41: =MID($F$4,A41,1) -> 0 | C41: =B41*1 -> 0
A42: 3 | B42: =MID($F$4,A42,1) -> 1 | C42: =B42*1 -> 1
A43: 4 | B43: =MID($F$4,A43,1) -> 1 | C43: =B43*1 -> 1
A44: 5 | B44: =MID($F$4,A44,1) -> 1 | C44: =B44*1 -> 1
A45: 6 | B45: =MID($F$4,A45,1) -> 0 | C45: =B45*1 -> 0
A46: 7 | B46: =MID($F$4,A46,1) -> 1 | C46: =B46*1 -> 1
A47: 1 | B47: =MID($G$4,A47,1) -> 0 | C47: =B47*1 -> 0
A48: 2 | B48: =MID($G$4,A48,1) -> 1 | C48: =B48*1 -> 1
A49: 3 | B49: =MID($G$4,A49,1) -> 1 | C49: =B49*1 -> 1
A50: 4 | B50: =MID($G$4,A50,1) -> 1 | C50: =B50*1 -> 1
A51: 5 | B51: =MID($G$4,A51,1) -> 0 | C51: =B51*1 -> 0
A52: 6 | B52: =MID($G$4,A52,1) -> 0 | C52: =B52*1 -> 0
A53: 7 | B53: =MID($G$4,A53,1) -> 1 | C53: =B53*1 -> 1
B54: 0 | C54: =B54*1 -> 0
B55: 1 | C55: =B55*1 -> 1
B56: 0 | C56: =B56*1 -> 0
B57: 1 | C57: =B57*1 -> 1
B58: 0 | C58: =B58*1 -> 0
A59: 1 | B59: =MID($H$4,A59,1) -> 1 | C59: =B59*1 -> 1
A60: 2 | B60: =MID($H$4,A60,1) -> 0 | C60: =B60*1 -> 0
A61: 3 | B61: =MID($H$4,A61,1) -> 1 | C61: =B61*1 -> 1
A62: 4 | B62: =MID($H$4,A62,1) -> 0 | C62: =B62*1 -> 0
A63: 5 | B63: =MID($H$4,A63,1) -> 0 | C63: =B63*1 -> 0
A64: 6 | B64: =MID($H$4,A64,1) -> 0 | C64: =B64*1 -> 0
A65: 7 | B65: =MID($H$4,A65,1) -> 0 | C65: =B65*1 -> 0
A66: 1 | B66: =MID($I$4,A66,1) -> 1 | C66: =B66*1 -> 1
A67: 2 | B67: =MID($I$4,A67,1) -> 0 | C67: =B67*1 -> 0
A68: 3 | B68: =MID($I$4,A68,1) -> 0 | C68: =B68*1 -> 0
A69: 4 | B69: =MID($I$4,A69,1) -> 0 | C69: =B69*1 -> 0
A70: 5 | B70: =MID($I$4,A70,1) -> 1 | C70: =B70*1 -> 1
A71: 6 | B71: =MID($I$4,A71,1) -> 0 | C71: =B71*1 -> 0
A72: 7 | B72: =MID($I$4,A72,1) -> 0 | C72: =B72*1 -> 0
A73: 1 | B73: =MID($J$4,A73,1) -> 1 | C73: =B73*1 -> 1
A74: 2 | B74: =MID($J$4,A74,1) -> 0 | C74: =B74*1 -> 0
A75: 3 | B75: =MID($J$4,A75,1) -> 0 | C75: =B75*1 -> 0
A76: 4 | B76: =MID($J$4,A76,1) -> 1 | C76: =B76*1 -> 1
A77: 5 | B77: =MID($J$4,A77,1) -> 0 | C77: =B77*1 -> 0
A78: 6 | B78: =MID($J$4,A78,1) -> 0 | C78: =B78*1 -> 0
A79: 7 | B79: =MID($J$4,A79,1) -> 0 | C79: =B79*1 -> 0
A80: 1 | B80: =MID($K$4,A80,1) -> 1 | C80: =B80*1 -> 1
A81: 2 | B81: =MID($K$4,A81,1) -> 1 | C81: =B81*1 -> 1
A82: 3 | B82: =MID($K$4,A82,1) -> 1 | C82: =B82*1 -> 1
A83: 4 | B83: =MID($K$4,A83,1) -> 0 | C83: =B83*1 -> 0
A84: 5 | B84: =MID($K$4,A84,1) -> 1 | C84: =B84*1 -> 1
A85: 6 | B85: =MID($K$4,A85,1) -> 0 | C85: =B85*1 -> 0
A86: 7 | B86: =MID($K$4,A86,1) -> 0 | C86: =B86*1 -> 0
A87: 1 | B87: =MID($L$4,A87,1) -> 1 | C87: =B87*1 -> 1
A88: 2 | B88: =MID($L$4,A88,1) -> 1 | C88: =B88*1 -> 1
A89: 3 | B89: =MID($L$4,A89,1) -> 1 | C89: =B89*1 -> 1
A90: 4 | B90: =MID($L$4,A90,1) -> 0 | C90: =B90*1 -> 0
A91: 5 | B91: =MID($L$4,A91,1) -> 0 | C91: =B91*1 -> 0
A92: 6 | B92: =MID($L$4,A92,1) -> 1 | C92: =B92*1 -> 1
A93: 7 | B93: =MID($L$4,A93,1) -> 0 | C93: =B93*1 -> 0
A94: 1 | B94: =MID($M$4,A94,1) -> 1 | C94: =B94*1 -> 1
A95: 2 | B95: =MID($M$4,A95,1) -> 0 | C95: =B95*1 -> 0
A96: 3 | B96: =MID($M$4,A96,1) -> 1 | C96: =B96*1 -> 1
A97: 4 | B97: =MID($M$4,A97,1) -> 0 | C97: =B97*1 -> 0
A98: 5 | B98: =MID($M$4,A98,1) -> 0 | C98: =B98*1 -> 0
A99: 6 | B99: =MID($M$4,A99,1) -> 0 | C99: =B99*1 -> 0
A100: 7 | B100: =MID($M$4,A100,1) -> 0 | C100: =B100*1 -> 0
B101: 1 | C101: =B101*1 -> 1
B102: 0 | C102: =B102*1 -> 0
...

Sheet JANコード入力
A1: 2行目に左から1つずつ数値を入力してください。最後の1ケタはチェックデジットで自動計算されます。
A2: 4 | B2: 5 | C2: 1 | D2: 2 | E2: 3 | F2: 4 | G2: 5 | H2: 6 | I2: 7 | J2: 8 | K2: 9 | L2: 0
F4: ご使用に当たっては自己責任でお願いします。
F5: 読み取りに関してはサイズ調整が必要です。
F6: 数字はMSPゴシックです。OCRではありません。
F7: 印刷で数字がはみ出る場合は、テキストボックスを選択し文字サイズなどで調整してください。
F8: 数字はグラフとは別になっていますのでコピーや移動はうまく選択してください。
F9: 複数バーコードが必要な場合はグラフと文字をコピーして形式を選択して貼り付けから画像として張り付けてください。
