Workbook

Sheet JAN作成
A1: 1 | B1: 2 | C1: 3 | D1: 4 | E1: 5 | F1: 6 | G1: 7 | H1: 8 | I1: 9 | J1: 10 | K1: 11 | L1: 12 | M1: 13
A2: =JANコード入力!A2 -> 4 | B2: =JANコード入力!B2 -> 5 | C2: =JANコード入力!C2 -> 1 | D2: =JANコード入力!D2 -> 2 | E2: =JANコード入力!E2 -> 3 | F2: =JANコード入力!F2 -> 4 | G2: =JANコード入力!G2 -> 5 | H2: =JANコード入力!H2 -> 6 | ... L2: =JANコード入力!L2 -> 0 | M2: =MOD(10-MOD((B2+D2+F2+H2+J2+L2)*3+A2+C2+E2+G2+I2+K2,10),10) -> 6 | N2: =VLOOKUP(A2,O10:P19,2,0) -> 121122
B3: =MID($N$2,A1,1) -> 1 | C3: =MID($N$2,B1,1) -> 2 | D3: =MID($N$2,C1,1) -> 1 | E3: =MID($N$2,D1,1) -> 1 | F3: =MID($N$2,E1,1) -> 2 | G3: =MID($N$2,F1,1) -> 2 | N3: =CONCATENATE(A2," ",B2," ",C2," ",D2," ",E2," ",F2," ",G2," ",H2," ",I2," ",J2," ",K2," ",L2," ",M2) -> 4 5 1 2 3 4 5 6 7 8 9 0 6
B4: =TEXT(VLOOKUP(B2,$O$10:$R$19,B3+2,0),"0000000") -> 0110001 | C4: =TEXT(VLOOKUP(C2,$O$10:$R$19,C3+2,0),"0000000") -> 0110011 | D4: =TEXT(VLOOKUP(D2,$O$10:$R$19,D3+2,0),"0000000") -> 0010011 | E4: =TEXT(VLOOKUP(E2,$O$10:$R$19,E3+2,0),"0000000") -> 0111101 | F4: =TEXT(VLOOKUP(F2,$O$10:$R$19,F3+2,0),"0000000") -> 0011101 | G4: =TEXT(VLOOKUP(G2,$O$10:$R$19,G3+2,0),"0000000") -> 0111001 | H4: =TEXT(VLOOKUP(H2,$O$10:$S$19,5,0),"0000000") -> 1010000 | I4: =TEXT(VLOOKUP(I2,$O$10:$S$19,5,0),"0000000") -> 1000100 | J4: =TEXT(VLOOKUP(J2,$O$10:$S$19,5,0),"0000000") -> 1001000 | K4: =TEXT(VLOOKUP(K2,$O$10:$S$19,5,0),"0000000") -> 1110100 | L4: =TEXT(VLOOKUP(L2,$O$10:$S$19,5,0),"0000000") -> 1110010 | M4: =TEXT(VLOOKUP(M2,$O$10:$S$19,5,0),"0000000") -> 1010000
N5: 2行目からをうまく利用し複数のバーコードを作成するときのための空行
B8: 4行目をばらす | C8: グラフが参照している数値
B9: 1 | C9: =B9*1 -> 1 | Q9: 左1 | R9: 左2 | S9: 右
B10: 0 | C10: =B10*1 -> 0 | O10: 0 | P10: 111111 | Q10: 1101 | R10: 100111 | S10: 1110010
B11: 1 | C11: =B11*1 -> 1 | O11: 1 | P11: 112122 | Q11: 11001 | R11: 110011 | S11: 1100110
A12: 1 | B12: =MID($B$4,A12,1) -> 0 | C12: =B12*1 -> 0 | O12: 2 | P12: 112212 | Q12: 10011 | R12: 11011 | S12: 1101100
A13: 2 | B13: =MID($B$4,A13,1) -> 1 | C13: =B13*1 -> 1 | O13: 3 | P13: 112221 | Q13: 111101 | R13: 100001 | S13: 1000010
A14: 3 | B14: =MID($B$4,A14,1) -> 1 | C14: =B14*1 -> 1 | O14: 4 | P14: 121122 | Q14: 100011 | R14: 11101 | S14: 1011100
A15: 4 | B15: =MID($B$4,A15,1) -> 0 | C15: =B15*1 -> 0 | O15: 5 | P15: 122112 | Q15: 110001 | R15: 111001 | S15: 1001110
A16: 5 | B16: =MID($B$4,A16,1) -> 0 | C16: =B16*1 -> 0 | O16: 6 | P16: 122211 | Q16: 101111 | R16: 101 | S16: 1010000
A17: 6 | B17: =MID($B$4,A17,1) -> 0 | C17: =B17*1 -> 0 | O17: 7 | P17: 121212 | Q17: 111011 | R17: 10001 | S17: 1000100
A18: 7 | B18: =MID($B$4,A18,1) -> 1 | C18: =B18*1 -> 1 | O18: 8 | P18: 121221 | Q18: 110111 | R18: 1001 | S18: 1001000
A19: 1 | B19: =MID($C$4,A19,1) -> 0 | C19: =B19*1 -> 0 | O19: 9 | P19: 122121 | Q19: 1011 | R19: 10111 | S19: 1110100
A20: 2 | B20: =MID($C$4,A20,1) -> 1 | C20: =B20*1 -> 1
A21: 3 | B21: =MID($C$4,A21,1) -> 1 | C21: =B21*1 -> 1
A22: 4 | B22: =MID($C$4,A22,1) -> 0 | C22: =B22*1 -> 0
A23: 5 | B23: =MID($C$4,A23,1) -> 0 | C23: =B23*1 -> 0
A24: 6 | B24: =MID($C$4,A24,1) -> 1 | C24: =B24*1 -> 1
A25: 7 | B25: =MID($C$4,A25,1) -> 1 | C25: =B25*1 -> 1
A26: 1 | B26: =MID($D$4,A26,1) -> 0 | C26: =B26*1 -> 0
A27: 2 | B27: =MID($D$4,A27,1) -> 0 | C27: =B27*1 -> 0
A28: 3 | B28: =MID($D$4,A28,1) -> 1 | C28: =B28*1 -> 1
A29: 4 | B29: =MID($D$4,A29,1) -> 0 | C29: =B29*1 -> 0
A30: 5 | B30: =MID($D$4,A30,1) -> 0 | C30: =B30*1 -> 0
A31: 6 | B31: =MID($D$4,A31,1) -> 1 | C31: =B31*1 -> 1
A32: 7 | B32: =MID($D$4,A32,1) -> 1 | C32: =B32*1 -> 1
A33: 1 | B33: =MID($E$4,A33,1) -> 0 | C33: =B33*1 -> 0
A34: 2 | B34: =MID($E$4,A34,1) -> 1 | C34: =B34*1 -> 1
A35: 3 | B35: =MID($E$4,A35,1) -> 1 | C35: =B35*1 -> 1
A36: 4 | B36: =MID($E$4,A36,1) -> 1 | C36: =B36*1 -> 1
A37: 5 | B37: =MID($E$4,A37,1) -> 1 | C37: =B37*1 -> 1
A38: 6 | B38: =MID($E$4,A38,1) -> 0 | C38: =B38*1 -> 0
A39: 7 | B39: =MID($E$4,A39,1) -> 1 | C39: =B39*1 -> 1
A40: 1 | B40: =MID($F$4,A40,1) -> 0 | C40: =B40*1 -> 0
A41: 2 | B41: =MID($F$4,A41,1) -> 0 | C41: =B41*1 -> 0
A42: 3 | B42: =MID($F$4,A42,1) -> 1 | C42: =B42*1 -> 1
...

Sheet JANコード入力
A1: 2行目に左から1つずつ数値を入力してください。最後の1ケタはチェックデジットで自動計算されます。
A2: 4 | B2: 5 | C2: 1 | D2: 2 | E2: 3 | F2: 4 | G2: 5 | H2: 6 | I2: 7 | J2: 8 | K2: 9 | L2: 0
F4: ご使用に当たっては自己責任でお願いします。
F5: 読み取りに関してはサイズ調整が必要です。
F6: 数字はMSPゴシックです。OCRではありません。
F7: 印刷で数字がはみ出る場合は、テキストボックスを選択し文字サイズなどで調整してください。
F8: 数字はグラフとは別になっていますのでコピーや移動はうまく選択してください。
F9: 複数バーコードが必要な場合はグラフと文字をコピーして形式を選択して貼り付けから画像として張り付けてください。
